BEGIN:VCALENDAR
VERSION:2.0
PRODID:-//Squarespace Inc/Squarespace 6//v6//EN
BEGIN:VEVENT
UID:5a820ee29140b7b326d64d8f@squarespace.com
DTSTAMP:20180224T213813Z
DTSTART:20180225T030000Z
DTEND:20180225T070000Z
SUMMARY:Take 'Em Down NOLA and The New Orleans Peoples Assembly present: TH
 E THROW DOWN
GEO:29.948683;-90.088585
LOCATION:Crescent City Boxing Gym\, 3101 Erato Street\, New Orleans\, LA\, 
 70125\, United States
END:VEVENT
END:VCALENDAR
