BEGIN:VCALENDAR
VERSION:2.0
PRODID:-//Squarespace Inc/Squarespace 6//v6//EN
BEGIN:VEVENT
UID:5c23ff1b2b6a28a419cd1f5a@squarespace.com
DTSTAMP:20190112T061529Z
DTSTART:20190112T060100Z
DTEND:20190113T055900Z
SUMMARY:"Roots Rising: The Take Em Down NOLA Zine" Debut
END:VEVENT
END:VCALENDAR
