BEGIN:VCALENDAR
VERSION:2.0
PRODID:-//Squarespace Inc/Squarespace 6//v6//EN
BEGIN:VEVENT
UID:5b57fa45f950b76718aa51fa@squarespace.com
DTSTAMP:20180728T141417Z
DTSTART:20180729T010000Z
DTEND:20180729T050000Z
SUMMARY:Bounce for Justice
END:VEVENT
END:VCALENDAR
