BEGIN:VCALENDAR
VERSION:2.0
PRODID:-//Squarespace Inc/Squarespace 6//v6//EN
BEGIN:VEVENT
UID:5b9817406d2a73a3dbb4797e@squarespace.com
DTSTAMP:20180912T193018Z
DTSTART:20181007T010000Z
DTEND:20181007T050000Z
SUMMARY:#BuildEmUpNOLA Party!
GEO:29.948683;-90.088585
LOCATION:Crescent City Boxing Gym\, 3101 Erato Street\, New Orleans\, LA\, 
 70125\, United States
END:VEVENT
END:VCALENDAR
